Workbook
Name ③梱包サイズ付与: #REF!
Name ③梱包サイズ付与: #REF!
Name A: {#N/A,#N/A,FALSE,"表一覧"}
Name A: {#N/A,#N/A,FALSE,"表一覧"}
Name A: {#N/A,#N/A,FALSE,"表一覧"}
Name A: {#N/A,#N/A,FALSE,"表一覧"}
Name A: {#N/A,#N/A,FALSE,"表一覧"}
Name A: {#N/A,#N/A,FALSE,"表一覧"}
Name asef: #N/A
Name B: #REF!
Name B: #REF!
Name B1L: #REF!
Name B1L: #REF!
Name Ｂ自入金比率: #REF!
Name Ｂ自入金比率: #REF!
Name COUNT: #REF!
Name COUNT: #REF!
Name CST_001: #REF!
Name CST_001: #REF!
Name CST_002: #REF!
Name CST_002: #REF!
Name CST_003: #REF!
Name CST_003: #REF!
Name CST_004: #REF!
Name CST_004: #REF!
Name CST_005: #REF!
Name CST_005: #REF!
Name DATA: #REF!
Name DATA: #REF!
Name DATA2: #REF!
Name DATA2: #REF!
Name DC_001: #REF!
Name DC_001: #REF!
Name DC_002: #REF!
Name DC_002: #REF!
Name DC_003: #REF!
Name DC_003: #REF!
Name DC_004: #REF!
Name DC_004: #REF!
Name DC_005: #REF!
Name DC_005: #REF!
Name DC_006: #REF!
Name DC_006: #REF!
Name DC_007: #REF!
Name DC_007: #REF!
Name DC_008: #REF!
Name DC_008: #REF!
Name DC_009: #REF!
Name DC_009: #REF!
Name DC_010: #REF!
Name DC_010: #REF!
Name DC_011: #REF!
Name DC_011: #REF!
Name DC_012: #REF!
Name DC_012: #REF!
Name DC_013: #REF!
Name DC_013: #REF!
Name DC_014: #REF!
Name DC_014: #REF!
Name DC_015: #REF!

Sheet 更新履歴
A1: システム名 | C1: スキーマ | F1: 作成者 | I1: 作成日 | K1: 更新者 | L1: 更新日
A2: ３－Ｄオンラインシステム | C2: 3DOS | F2: =IF(K5="","",K5) -> 大場 | I2: =IF(L5="","",L5) -> 46003 | K2: =IF(MAX(A:A)<=1,"",_xlfn.XLOOKUP(MAX(A:A),A:A,K:K,"",0)&"") | L2: =IF(MAX(A:A)<=1,"",_xlfn.XLOOKUP(MAX(A:A),A:A,L:L,0,0))
A4: No | B4: 対象シート | C4: 更新内容 | K4: 更新者 | L4: 更新日
A5: =ROW()-4 -> 1 | B5: ALL | C5: 新規 | K5: 大場 | L5: 46003

Sheet マージ
A1: 物理名 | B1: 論理名 | C1: データ型 | D1: 桁数 | E1: 小数 | F1: GP | G1: ARR | H1: LV | I1: PK | L1: ﾃﾞｰﾀｰﾈｰﾑ | M1: 項目名 | N1: データネーム | P1: 物理名 | Q1: 論理名 | R1: データ型 | S1: 桁数 | T1: 小数 | U1: GP | V1: ARR | W1: LV | X1: PK | Y1: 旧物理名
A2: SHITKEYB | B2: キー部 | F2: G | H2: 2 | L2: ID | M2: サロゲートキー | P2: SHITKEYB | Q2: キー部 | U2: G | W2: 2
A3: SHITMTNC | B3: 紹介元事業所コード | C3: PIC | D3: 4 | H3: 3 | I3: 1 | L3: SHITMTNC | M3: 紹介元事業所コード | P3: SHITMTNC | Q3: 紹介元事業所コード | R3: PIC | S3: 4 | W3: 3 | X3: 1 | Y3: SHITMTNC
A4: SHITMYMD | B4: 年月日 | C4: PIC | D4: 6 | H4: 3 | I4: 2 | L4: SHITMYMD | M4: 年月日 | P4: SHITMYMD | Q4: 年月日 | R4: PIC | S4: 6 | W4: 3 | X4: 2 | Y4: SHITMYMD
A5: SHITMSNO | B5: 紹介№ | C5: PIC | D5: 6 | H5: 3 | I5: 3 | L5: SHITMSNO | M5: 紹介№ | P5: SHITMSNO | Q5: 紹介№ | R5: PIC | S5: 6 | W5: 3 | X5: 3 | Y5: SHITMSNO
A6: SHITMDUM | B6: ダミー | C6: CHAR | D6: 4 | H6: 3 | I6: 4 | L6: SHITMJCD | M6: 紹介元従業員コード | P6: SHITMDUM | Q6: ダミー | R6: CHAR | S6: 4 | W6: 3 | X6: 4
A7: SHITMOTO | B7: 紹介元 | F7: G | H7: 2 | L7: SHITMNCD | M7: 荷主コード | P7: SHITMOTO | Q7: 紹介元 | U7: G | W7: 2
A8: SHITMJCD | B8: 従業員コード | C8: PIC | D8: 7 | H8: 3 | L8: SHITMNNM | M8: 荷主名 | P8: SHITMJCD | Q8: 従業員コード | R8: PIC | S8: 7 | W8: 3 | Y8: SHITMJCD
A9: SHITMNCD | B9: 荷主コード | C9: CHAR | D9: 7 | H9: 3 | L9: SHITMGCD | M9: 業種コード | P9: SHITMNCD | Q9: 荷主コード | R9: CHAR | S9: 7 | W9: 3 | Y9: SHITMNCD
A10: SHITMNNM | B10: 荷主名 | C10: CHAR | D10: 22 | H10: 3 | L10: SHITSTNC | M10: 紹介先事業所コード | P10: SHITMNNM | Q10: 荷主名 | R10: CHAR | S10: 22 | W10: 3 | Y10: SHITMNNM
A11: SHITMGCD | B11: 業種コード | C11: CHAR | D11: 4 | H11: 3 | L11: SHITSYMD | M11: 年月日 | P11: SHITMGCD | Q11: 業種コード | R11: CHAR | S11: 4 | W11: 3 | Y11: SHITMGCD
A12: SHITKEYA | B12: ＡＩＸ | F12: G | H12: 2 | L12: SHITSSNO | M12: 紹介№ | P12: SHITKEYA | Q12: ＡＩＸ | U12: G | W12: 2
A13: SHITSTNC | B13: 紹介先事業所コード | C13: PIC | D13: 4 | H13: 3 | L13: SHITSNNG | M13: 紹介先荷主名（漢字） | P13: SHITSTNC | Q13: 紹介先事業所コード | R13: PIC | S13: 4 | W13: 3 | Y13: SHITSTNC
A14: SHITSYMD | B14: 年月日 | C14: PIC | D14: 6 | H14: 3 | L14: SHITSNNC | M14: 紹介先荷主名（カナ） | P14: SHITSYMD | Q14: 年月日 | R14: PIC | S14: 6 | W14: 3 | Y14: SHITSYMD
A15: SHITSSNO | B15: 紹介№ | C15: PIC | D15: 6 | H15: 3 | L15: SHITSJU1 | M15: 紹介先住所１ | P15: SHITSSNO | Q15: 紹介№ | R15: PIC | S15: 6 | W15: 3 | Y15: SHITSSNO
A16: SHITSDUM | B16: ダミー | C16: CHAR | D16: 4 | H16: 3 | L16: SHITSJU2 | M16: 紹介先住所２ | P16: SHITSDUM | Q16: ダミー | R16: CHAR | S16: 4 | W16: 3
A17: SHITSAKI | B17: 紹介先 | F17: G | H17: 2 | L17: SHITSGC1 | M17: 紹介先業者コード１ | P17: SHITSAKI | Q17: 紹介先 | U17: G | W17: 2
A18: SHITSNNG | B18: 荷主名（漢字） | C18: CHAR | D18: 42 | H18: 3 | L18: SHITSGC2 | M18: 紹介先業者コード２ | P18: SHITSNNG | Q18: 荷主名（漢字） | R18: CHAR | S18: 42 | W18: 3 | Y18: SHITSNNG
A19: SHITSNNC | B19: 荷主名（カナ） | C19: CHAR | D19: 40 | H19: 3 | L19: SHITSGC3 | M19: 紹介先業者コード３ | P19: SHITSNNC | Q19: 荷主名（カナ） | R19: CHAR | S19: 40 | W19: 3 | Y19: SHITSNNC
A20: SHITSJU1 | B20: 住所１ | C20: CHAR | D20: 42 | H20: 3 | L20: SHITSGNM | M20: 紹介先その他業者名 | P20: SHITSJU1 | Q20: 住所１ | R20: CHAR | S20: 42 | W20: 3 | Y20: SHITSJU1
A21: SHITSJU2 | B21: 住所２ | C21: CHAR | D21: 42 | H21: 3 | L21: SHITKJCD | M21: 経過従業員コード | P21: SHITSJU2 | Q21: 住所２ | R21: CHAR | S21: 42 | W21: 3 | Y21: SHITSJU2
A22: SHITSGCD | B22: 業者コード | C22: PIC | D22: 2 | G22: 3 | H22: 3 | L22: SHITKEK1 | M22: 経過区分１ | P22: SHITSGCD | Q22: 業者コード | R22: PIC | S22: 2 | V22: 3 | W22: 3
A23: SHITSGNM | B23: その他業者名 | C23: CHAR | D23: 14 | H23: 3 | L23: SHITKYM1 | M23: 訪問年月日１ | P23: SHITSGNM | Q23: その他業者名 | R23: CHAR | S23: 14 | W23: 3 | Y23: SHITSGNM
A24: SHITKEKA | B24: 経過 | F24: G | H24: 2 | L24: SHITKEK2 | M24: 経過区分２ | P24: SHITKEKA | Q24: 経過 | U24: G | W24: 2
A25: SHITKJCD | B25: 従業員コード | C25: PIC | D25: 7 | H25: 3 | L25: SHITKYM2 | M25: 訪問年月日２ | P25: SHITKJCD | Q25: 従業員コード | R25: PIC | S25: 7 | W25: 3 | Y25: SHITKJCD
A26: SHITKEIK | B26: 経過 | F26: G | G26: 3 | H26: 3 | L26: SHITKEK3 | M26: 経過区分３ | P26: SHITKEIK | Q26: 経過 | U26: G | V26: 3 | W26: 3
A27: SHITKEKB | B27: 経過区分 | C27: PIC | D27: 2 | H27: 4 | L27: SHITKYM3 | M27: 訪問年月日３ | P27: SHITKEKB | Q27: 経過区分 | R27: PIC | S27: 2 | W27: 4
A28: SHITKYMD | B28: 訪問年月日 | C28: PIC | D28: 6 | H28: 4 | L28: SHITYMDM | M28: 紹介元最終更新日 | P28: SHITKYMD | Q28: 訪問年月日 | R28: PIC | S28: 6 | W28: 4
A29: SHITDMY1 | B29: ダミー | C29: CHAR | D29: 84 | H29: 2 | L29: SHITYMDS | M29: 紹介先最終更新日 | P29: SHITDMY1 | Q29: ダミー | R29: CHAR | S29: 84 | W29: 2
A30: SHITYMDM | B30: 紹介元最終更新日 | C30: PIC | D30: 6 | H30: 2 | L30: SHITDKBN | M30: 削除区分 | P30: SHITYMDM | Q30: 紹介元最終更新日 | R30: PIC | S30: 6 | W30: 2 | Y30: SHITYMDM
A31: SHITYMDS | B31: 紹介先最終更新日 | C31: PIC | D31: 6 | H31: 2 | L31: SHITAYMD | M31: 作成年月日 | P31: SHITYMDS | Q31: 紹介先最終更新日 | R31: PIC | S31: 6 | W31: 2 | Y31: SHITYMDS
A32: SHITDKBN | B32: 削除区分 | C32: PIC | D32: 1 | H32: 2 | L32: SYSCRDTS | M32: 作成日時 | P32: SHITDKBN | Q32: 削除区分 | R32: PIC | S32: 1 | W32: 2 | Y32: SHITDKBN
A33: SHITAYMD | B33: 作成年月日 | C33: PIC | D33: 6 | H33: 2 | L33: SYSCRTID | M33: 作成端末 | P33: SHITAYMD | Q33: 作成年月日 | R33: PIC | S33: 6 | W33: 2 | Y33: SHITAYMD
L34: SYSCRJCD | M34: 作成ユーザー
L35: SYSCRPID | M35: 作成処理ID
L36: SYSUPDTS | M36: 更新日時
L37: SYSUPTID | M37: 更新端末
L38: SYSUPJCD | M38: 更新ユーザー
L39: SYSUPPID | M39: 更新処理ID
L40: VERSION | M40: Lockバージョン

Sheet マッピング表の確認
A1: マッピング表の確認
B3: 確認項目 | C3: 実施日 | D3: 実施者 | E3: 結果 | F3: 結果備考 | G3: 渡部コメント | I3: [ToBe]物理名 | J3: 重複チェック
B4: ・[ToBe]論理名に重複がある場合、重複を修正する。 【確認方法】：論路名がオレンジ色がないことを確認 | C4: 46003 | D4: 大場 | E4: ✕ | F4: 年月日と紹介№が重複していましたので以下のように変更必要です。頭に照会元 紹介先を付るなど 変更方法を下記にいただけますか | G4: 第一さんに修正依頼する。 片方は「AIX KEY」と記載があり、さらにデータ的に同じ値がセットされているので片方は消してもよいのではないか？ | I4: ID | J4: =COUNTIF($I$4:$I$45,I4) -> 1
B5: ※ [AsIs]論理名に重複があってもよい | F5: SHITMYMD 年月日 → に変更 | I5: SHITMTNC | J5: =COUNTIF($I$4:$I$45,I5) -> 1
F6: SHITMSNO 紹介№ → に変更 | I6: SHITMYMD | J6: =COUNTIF($I$4:$I$45,I6) -> 1
F7: SHITSYMD 年月日 → に変更 | I7: SHITMSNO | J7: =COUNTIF($I$4:$I$45,I7) -> 1
F8: SHITSSNO 紹介№ → に変更 | I8: SHITMJCD | J8: =COUNTIF($I$4:$I$45,I8) -> 1
B9: ・[ToBe]物理名の重複を修正する 【確認方法】：重複チェックで確認 →このシートのH列に物理名を張り付けて確認 | C9: 46003 | D9: 大場 | E9: 〇 | I9: SHITMNCD | J9: =COUNTIF($I$4:$I$45,I9) -> 1
B10: ・[ToBe]物理名の重複は配列構造に修正する | C10: 46003 | D10: 大場 | E10: 〇 | I10: SHITMNNM | J10: =COUNTIF($I$4:$I$45,I10) -> 1
B11: ・[ToBe]NCHAR型の桁数 【確認方法】：コメントに「全角のみ」とある場合は(bytes数(桁数)÷2)に変更されているか | C11: 46003 | D11: 大場 | E11: 〇 | F11: 全角のみの項目はありませんでした。 | I11: SHITMGCD | J11: =COUNTIF($I$4:$I$45,I11) -> 1
I12: SHITSTNC | J12: =COUNTIF($I$4:$I$45,I12) -> 1
B13: ・[ToBe]NCHAR型の桁数 【確認方法】：桁数にSI/SOが含まれる場合もある（要移行データ確認）、SI/SOが含まれる場合は-2Byeする | C13: 46003 | D13: 大場 | E13: ✕ | F13: 全角のみの項目はありませんでしたが、 VKIRIMS_指定依頼書マスター.csvと移行元レイアウトがあっていないと思います。 | G13: 実際にロードして確認します。 | I13: SHITSYMD | J13: =COUNTIF($I$4:$I$45,I13) -> 1
B14: 全角にSO,SIがあるが、半角はSO,SIがない。半角の場合SO,SIの代わりに半角スペースをいれている。 | I14: SHITSSNO | J14: =COUNTIF($I$4:$I$45,I14) -> 1
B15: ・[AsIs][ToBe]array構造(配列構造）のカラムは手動で展開する | C15: 46003 | D15: 大場 | E15: 〇 | F15: Asisの下記を配列展開しました。物理名のつけ方に誤りがないかご確認ください | G15: 認識あってます。 | I15: SHITSNNG | J15: =COUNTIF($I$4:$I$45,I15) -> 1
G16: 業者コードがArray構造[3]です。 これを展開する必要があります。 | I16: SHITSNNC | J16: =COUNTIF($I$4:$I$45,I16) -> 1
B17: ・[AsIs][ToBe]マッピング（array展開したカラム、未マッピングカラムなど。array展開やテーブルを分割した場合、カラムの物理名が変わるため未マッピングとなる） | C17: 46003 | D17: 大場 | E17: 〇 | F17: 同上 | I17: SHITSJU1 | J17: =COUNTIF($I$4:$I$45,I17) -> 1
I18: SHITSJU2 | J18: =COUNTIF($I$4:$I$45,I18) -> 1
B19: ・[AsIs]「コメント」を追加。廃止項目や参照方法の注意事項などを記載。場合によってはSQLを記載している | C19: 46003 | D19: 大場 | E19: ✕ | F19: Asisの廃止項目 下記が廃止扱いになっています間違いないか確認をお願いいたします。 | I19: SHITSGC1 | J19: =COUNTIF($I$4:$I$45,I19) -> 1
F20: SHITMOTO 紹介元 | G20: G（グループ項目）なので「廃止」不要
F21: SHITSAKI 紹介先 | G21: G（グループ項目）なので「廃止」不要
F22: SHITKEKA 経過 | G22: G（グループ項目）なので「廃止」不要
F23: SHITKEIK 経過 | G23: G（グループ項目）なので「廃止」不要 | I23: SHITSGC2 | J23: =COUNTIF($I$4:$I$45,I23) -> 1
B24: [ToBe]必要に応じて「備考」に記載することもある。「全角のみ」「混在」など | C24: 46003 | D24: 大場 | E24: ✕ | F24: VKIRIMS_指定依頼書マスター.csv が正しいものと比較します | G24: 実際にロードして確認します。 | I24: SHITSGC3 | J24: =COUNTIF($I$4:$I$45,I24) -> 1
I25: SHITSGNM | J25: =COUNTIF($I$4:$I$45,I25) -> 1
B26: ・[ToBe]データ型の変更確認。必要に応じてデータ型を変更する。 | I26: SHITKJCD | J26: =COUNTIF($I$4:$I$45,I26) -> 1
I27: SHITKEK1 | J27: =COUNTIF($I$4:$I$45,I27) -> 1
B28: ・[ToBe]初期値確認（PIC型やDEC型からの変更、カラムに"区分"を含む場合、注意する。必要に応じて初期値を変更） | C28: 46003 | D28: 大場 | E28: 〇 | G28: 初期値を変更する No.21 SHITKEK1[経過区分１] 初期値'00' No.23 SHITKEK2[経過区分２] 初期値'00' No.25 SHITKEK3[経過区分３] 初期値'00' No.29 SHITDKBN[削除区分] 初期値'0' | I28: SHITKYM1 | J28: =COUNTIF($I$4:$I$45,I28) -> 1
I29: SHITKEK2 | J29: =COUNTIF($I$4:$I$45,I29) -> 1
I30: SHITKYM2 | J30: =COUNTIF($I$4:$I$45,I30) -> 1
I31: SHITKEK3 | J31: =COUNTIF($I$4:$I$45,I31) -> 1
I32: SHITKYM3 | J32: =COUNTIF($I$4:$I$45,I32) -> 1
I33: SHITYMDM | J33: =COUNTIF($I$4:$I$45,I33) -> 1
I34: SHITYMDS | J34: =COUNTIF($I$4:$I$45,I34) -> 1
B35: ・ER図のSQLを確認 【確認方法】：テーブル名（論理・物理名）、キー項目に誤りがないか確認する。 | C35: 46003 | D35: 大場 | E35: 〇 | I35: SHITDKBN | J35: =COUNTIF($I$4:$I$45,I35) -> 1
I36: SHITAYMD | J36: =COUNTIF($I$4:$I$45,I36) -> 1
I37: SYSCRDTS | J37: =COUNTIF($I$4:$I$45,I37) -> 1
I38: SYSCRTID | J38: =COUNTIF($I$4:$I$45,I38) -> 1
I39: SYSCRJCD | J39: =COUNTIF($I$4:$I$45,I39) -> 1
I40: SYSCRPID | J40: =COUNTIF($I$4:$I$45,I40) -> 1
I41: SYSUPDTS | J41: =COUNTIF($I$4:$I$45,I41) -> 1
...

Sheet 修正依頼
A4: No | B4: 対象シート | C4: 依頼内容 | K4: 記載者 | L4: 記載日

Sheet VKIRIMS
A1: システム名 | C1: スキーマ名 | D1: 業務 | E1: インポートファイル名 | M1: 作成者 | N1: 作成日
A2: ３－Ｄオンラインシステム | C2: 3DOS | D2: 販売 | E2: VKIRIMS_指定依頼書マスター.csv | M2: JAC渡部 | N2: 46003
A3: 物理テーブル名 | C3: 論理テーブル名 | M3: 更新者 | N3: 更新日
A4: VKIRIMS | C4: 指定依頼書マスタ | L4: 0
A5: DD名 | C5: データセット名 | E5: INCLUDE名 | I5: 移行用 | Z5: Char
A6: VKIRIMS | C6: VKAD.VKIRAIMS.DTMASTER | E6: SHITEIMS | I6: SHITEIMZ | O6: 変換前 | Y6: POSITION | Z6: Nchar | AA6: Decimal
A8: No. | B8: 物理名 | C8: 論理名 | D8: データ型 | E8: 桁数 | F8: 小数 | G8: PS | H8: UK | I8: FK | J8: NULL | K8: 初期値 | L8: 備 考 | O8: データ型 | P8: 桁数 | Q8: 少数 | R8: 旧物理テーブル名 | S8: 旧物理名 | T8: 旧論理名 | U8: 旧属性 | V8: 旧桁数 | W8: 旧小数 | AB8: 固定項目識別 | AC8: 重複チェック
A9: =ROW()-8 -> 1 | B9: ID | C9: サロゲートキー | D9: DECIMAL | K9: =IF(D9<>"",IF(D9="Decimal", 0, "' '"), "") -> 0 | L9: IDは自動採番 | R9: VKIRIMS | S9: {=_xlfn.XLOOKUP($B$9:$B$47, 'VKIRIMS(移行元)'!$X:$X,'VKIRIMS(移行元)'!$B:$B,"", 0)} | T9: {=_xlfn.XLOOKUP($B$9:$B$47, 'VKIRIMS(移行元)'!$X:$X,'VKIRIMS(移行元)'!$C:$C,"", 0)} | U9: {=_xlfn.XLOOKUP($B$9:$B$47, 'VKIRIMS(移行元)'!$X:$X,'VKIRIMS(移行元)'!$D:$D,"", 0)} | V9: {=_xlfn.XLOOKUP($B$9:$B$47, 'VKIRIMS(移行元)'!$X:$X,'VKIRIMS(移行元)'!$E:$E,"", 0)} | W9: {=_xlfn.XLOOKUP($B$9:$B$47, 'VKIRIMS(移行元)'!$X:$X,'VKIRIMS(移行元)'!$F:$F,"", 0)} | Y9: 1 | AB9: 固定項目 | AC9: =COUNTIF($C$9:$C$244, C9) -> 1
A10: =ROW()-8 -> 2 | B10: SHITMTNC | C10: 紹介元事業所コード | D10: NCHAR | E10: 4 | G10: =IF(E10<>"",Y9, "") -> 1 | H10: 1 | K10: =IF(J10<>"NULL", IF(D10<>"",IF(D10="Decimal", 0, "' '"), ""), "") -> ' ' | L10: KEY | O10: CHAR | P10: 4 | R10: VKIRIMS | S10: SHITMTNC | T10: 紹介元事業所コード | U10: PIC | V10: 4 | W10: 0 | X10: =IF(E10="","",COUNTA(D$9:$D10)-COUNTIFS(D$9:$D10,"",D$9:$D10,"=*")) -> 2 | Y10: =IF(E10 <>"", IF(D10= "Decimal",Y9+AA10,Y9+Z10), Y9) -> 6 | Z10: =IF(E10<>"", E10+1, "") -> 5 | AA10: =IF(E10<>"",IF(F10<>"",E10+2,E10+1),"") -> 5 | AC10: =COUNTIF($C$9:$C$244, C10) -> 1 | AE10: =", min(" & B10 & "), max(" & B10 & ")" -> , min(SHITMTNC), max(SHITMTNC)
A11: =ROW()-8 -> 3 | B11: SHITMYMD | C11: 年月日 | D11: NCHAR | E11: 8 | G11: =IF(E11<>"",Y10, "") -> 6 | H11: 2 | K11: =IF(J11<>"NULL", IF(D11<>"",IF(D11="Decimal", 0, "' '"), ""), "") -> ' ' | L11: KEY | O11: CHAR | P11: 8 | R11: VKIRIMS | S11: SHITMYMD | T11: 年月日 | U11: PIC | V11: 6 | W11: 0 | X11: =IF(E11="","",COUNTA(D$9:$D11)-COUNTIFS(D$9:$D11,"",D$9:$D11,"=*")) -> 3 | Y11: =IF(E11 <>"", IF(D11= "Decimal",Y10+AA11,Y10+Z11), Y10) -> 15 | Z11: =IF(E11<>"", E11+1, "") -> 9 | AA11: =IF(E11<>"",IF(F11<>"",E11+2,E11+1),"") -> 9 | AC11: =COUNTIF($C$9:$C$244, C11) -> 2 | AE11: =", min(" & B11 & "), max(" & B11 & ")" -> , min(SHITMYMD), max(SHITMYMD)
A12: =ROW()-8 -> 4 | B12: SHITMSNO | C12: 紹介№ | D12: NCHAR | E12: 6 | G12: =IF(E12<>"",Y11, "") -> 15 | H12: 3 | K12: =IF(J12<>"NULL", IF(D12<>"",IF(D12="Decimal", 0, "' '"), ""), "") -> ' ' | L12: KEY | O12: CHAR | P12: 6 | R12: VKIRIMS | S12: SHITMSNO | T12: 紹介№ | U12: PIC | V12: 6 | W12: 0 | X12: =IF(E12="","",COUNTA(D$9:$D12)-COUNTIFS(D$9:$D12,"",D$9:$D12,"=*")) -> 4 | Y12: =IF(E12 <>"", IF(D12= "Decimal",Y11+AA12,Y11+Z12), Y11) -> 22 | Z12: =IF(E12<>"", E12+1, "") -> 7 | AA12: =IF(E12<>"",IF(F12<>"",E12+2,E12+1),"") -> 7 | AC12: =COUNTIF($C$9:$C$244, C12) -> 2 | AE12: =", min(" & B12 & "), max(" & B12 & ")" -> , min(SHITMSNO), max(SHITMSNO)
A13: =ROW()-8 -> 5 | B13: SHITMJCD | C13: 紹介元従業員コード | D13: NCHAR | E13: 6 | G13: =IF(E13<>"",Y12, "") -> 22 | K13: =IF(J13<>"NULL", IF(D13<>"",IF(D13="Decimal", 0, "' '"), ""), "") -> ' ' | O13: CHAR | P13: 6 | R13: VKIRIMS | S13: SHITMJCD | T13: 従業員コード | U13: PIC | V13: 7 | W13: 0 | X13: =IF(E13="","",COUNTA(D$9:$D13)-COUNTIFS(D$9:$D13,"",D$9:$D13,"=*")) -> 5 | Y13: =IF(E13 <>"", IF(D13= "Decimal",Y12+AA13,Y12+Z13), Y12) -> 29 | Z13: =IF(E13<>"", E13+1, "") -> 7 | AA13: =IF(E13<>"",IF(F13<>"",E13+2,E13+1),"") -> 7 | AC13: =COUNTIF($C$9:$C$244, C13) -> 1 | AE13: =", min(" & B13 & "), max(" & B13 & ")" -> , min(SHITMJCD), max(SHITMJCD)
A14: =ROW()-8 -> 6 | B14: SHITMNCD | C14: 荷主コード | D14: NCHAR | E14: 7 | G14: =IF(E14<>"",Y13, "") -> 29 | K14: =IF(J14<>"NULL", IF(D14<>"",IF(D14="Decimal", 0, "' '"), ""), "") -> ' ' | O14: CHAR | P14: 7 | R14: VKIRIMS | S14: SHITMNCD | T14: 荷主コード | U14: CHAR | V14: 7 | W14: 0 | X14: =IF(E14="","",COUNTA(D$9:$D14)-COUNTIFS(D$9:$D14,"",D$9:$D14,"=*")) -> 6 | Y14: =IF(E14 <>"", IF(D14= "Decimal",Y13+AA14,Y13+Z14), Y13) -> 37 | Z14: =IF(E14<>"", E14+1, "") -> 8 | AA14: =IF(E14<>"",IF(F14<>"",E14+2,E14+1),"") -> 8 | AC14: =COUNTIF($C$9:$C$244, C14) -> 1 | AE14: =", min(" & B14 & "), max(" & B14 & ")" -> , min(SHITMNCD), max(SHITMNCD)
A15: =ROW()-8 -> 7 | B15: SHITMNNM | C15: 荷主名 | D15: NCHAR | E15: 22 | G15: =IF(E15<>"",Y14, "") -> 37 | K15: =IF(J15<>"NULL", IF(D15<>"",IF(D15="Decimal", 0, "' '"), ""), "") -> ' ' | O15: CHAR | P15: 22 | R15: VKIRIMS | S15: SHITMNNM | T15: 荷主名 | U15: CHAR | V15: 22 | W15: 0 | X15: =IF(E15="","",COUNTA(D$9:$D15)-COUNTIFS(D$9:$D15,"",D$9:$D15,"=*")) -> 7 | Y15: =IF(E15 <>"", IF(D15= "Decimal",Y14+AA15,Y14+Z15), Y14) -> 60 | Z15: =IF(E15<>"", E15+1, "") -> 23 | AA15: =IF(E15<>"",IF(F15<>"",E15+2,E15+1),"") -> 23 | AC15: =COUNTIF($C$9:$C$244, C15) -> 1 | AE15: =", min(" & B15 & "), max(" & B15 & ")" -> , min(SHITMNNM), max(SHITMNNM)
A16: =ROW()-8 -> 8 | B16: SHITMGCD | C16: 業種コード | D16: NCHAR | E16: 4 | G16: =IF(E16<>"",Y15, "") -> 60 | K16: =IF(J16<>"NULL", IF(D16<>"",IF(D16="Decimal", 0, "' '"), ""), "") -> ' ' | O16: CHAR | P16: 4 | R16: VKIRIMS | S16: SHITMGCD | T16: 業種コード | U16: CHAR | V16: 4 | W16: 0 | X16: =IF(E16="","",COUNTA(D$9:$D16)-COUNTIFS(D$9:$D16,"",D$9:$D16,"=*")) -> 8 | Y16: =IF(E16 <>"", IF(D16= "Decimal",Y15+AA16,Y15+Z16), Y15) -> 65 | Z16: =IF(E16<>"", E16+1, "") -> 5 | AA16: =IF(E16<>"",IF(F16<>"",E16+2,E16+1),"") -> 5 | AC16: =COUNTIF($C$9:$C$244, C16) -> 1 | AE16: =", min(" & B16 & "), max(" & B16 & ")" -> , min(SHITMGCD), max(SHITMGCD)
A17: =ROW()-8 -> 9 | B17: SHITSTNC | C17: 紹介先事業所コード | D17: NCHAR | E17: 4 | G17: =IF(E17<>"",Y16, "") -> 65 | K17: =IF(J17<>"NULL", IF(D17<>"",IF(D17="Decimal", 0, "' '"), ""), "") -> ' ' | L17: AIX KEY | O17: CHAR | P17: 4 | R17: VKIRIMS | S17: SHITSTNC | T17: 紹介先事業所コード | U17: PIC | V17: 4 | W17: 0 | X17: =IF(E17="","",COUNTA(D$9:$D17)-COUNTIFS(D$9:$D17,"",D$9:$D17,"=*")) -> 9 | Y17: =IF(E17 <>"", IF(D17= "Decimal",Y16+AA17,Y16+Z17), Y16) -> 70 | Z17: =IF(E17<>"", E17+1, "") -> 5 | AA17: =IF(E17<>"",IF(F17<>"",E17+2,E17+1),"") -> 5 | AC17: =COUNTIF($C$9:$C$244, C17) -> 1 | AE17: =", min(" & B17 & "), max(" & B17 & ")" -> , min(SHITSTNC), max(SHITSTNC)
A18: =ROW()-8 -> 10 | B18: SHITSYMD | C18: 年月日 | D18: NCHAR | E18: 8 | G18: =IF(E18<>"",Y17, "") -> 70 | K18: =IF(J18<>"NULL", IF(D18<>"",IF(D18="Decimal", 0, "' '"), ""), "") -> ' ' | L18: AIX KEY | O18: CHAR | P18: 8 | R18: VKIRIMS | S18: SHITSYMD | T18: 年月日 | U18: PIC | V18: 6 | W18: 0 | X18: =IF(E18="","",COUNTA(D$9:$D18)-COUNTIFS(D$9:$D18,"",D$9:$D18,"=*")) -> 10 | Y18: =IF(E18 <>"", IF(D18= "Decimal",Y17+AA18,Y17+Z18), Y17) -> 79 | Z18: =IF(E18<>"", E18+1, "") -> 9 | AA18: =IF(E18<>"",IF(F18<>"",E18+2,E18+1),"") -> 9 | AC18: =COUNTIF($C$9:$C$244, C18) -> 2 | AE18: =", min(" & B18 & "), max(" & B18 & ")" -> , min(SHITSYMD), max(SHITSYMD)
A19: =ROW()-8 -> 11 | B19: SHITSSNO | C19: 紹介№ | D19: NCHAR | E19: 6 | G19: =IF(E19<>"",Y18, "") -> 79 | K19: =IF(J19<>"NULL", IF(D19<>"",IF(D19="Decimal", 0, "' '"), ""), "") -> ' ' | L19: AIX KEY | O19: CHAR | P19: 6 | R19: VKIRIMS | S19: SHITSSNO | T19: 紹介№ | U19: PIC | V19: 6 | W19: 0 | X19: =IF(E19="","",COUNTA(D$9:$D19)-COUNTIFS(D$9:$D19,"",D$9:$D19,"=*")) -> 11 | Y19: =IF(E19 <>"", IF(D19= "Decimal",Y18+AA19,Y18+Z19), Y18) -> 86 | Z19: =IF(E19<>"", E19+1, "") -> 7 | AA19: =IF(E19<>"",IF(F19<>"",E19+2,E19+1),"") -> 7 | AC19: =COUNTIF($C$9:$C$244, C19) -> 2 | AE19: =", min(" & B19 & "), max(" & B19 & ")" -> , min(SHITSSNO), max(SHITSSNO)
A20: =ROW()-8 -> 12 | B20: SHITSNNG | C20: 紹介先荷主名（漢字） | D20: NCHAR | E20: 42 | G20: =IF(E20<>"",Y19, "") -> 86 | K20: =IF(J20<>"NULL", IF(D20<>"",IF(D20="Decimal", 0, "' '"), ""), "") -> ' ' | O20: CHAR | P20: 42 | R20: VKIRIMS | S20: SHITSNNG | T20: 荷主名（漢字） | U20: CHAR | V20: 42 | W20: 0 | X20: =IF(E20="","",COUNTA(D$9:$D20)-COUNTIFS(D$9:$D20,"",D$9:$D20,"=*")) -> 12 | Y20: =IF(E20 <>"", IF(D20= "Decimal",Y19+AA20,Y19+Z20), Y19) -> 129 | Z20: =IF(E20<>"", E20+1, "") -> 43 | AA20: =IF(E20<>"",IF(F20<>"",E20+2,E20+1),"") -> 43 | AC20: =COUNTIF($C$9:$C$244, C20) -> 1 | AE20: =", min(" & B20 & "), max(" & B20 & ")" -> , min(SHITSNNG), max(SHITSNNG)
A21: =ROW()-8 -> 13 | B21: SHITSNNC | C21: 紹介先荷主名（カナ） | D21: NCHAR | E21: 40 | G21: =IF(E21<>"",Y20, "") -> 129 | K21: =IF(J21<>"NULL", IF(D21<>"",IF(D21="Decimal", 0, "' '"), ""), "") -> ' ' | O21: CHAR | P21: 40 | R21: VKIRIMS | S21: SHITSNNC | T21: 荷主名（カナ） | U21: CHAR | V21: 40 | W21: 0 | X21: =IF(E21="","",COUNTA(D$9:$D21)-COUNTIFS(D$9:$D21,"",D$9:$D21,"=*")) -> 13 | Y21: =IF(E21 <>"", IF(D21= "Decimal",Y20+AA21,Y20+Z21), Y20) -> 170 | Z21: =IF(E21<>"", E21+1, "") -> 41 | AA21: =IF(E21<>"",IF(F21<>"",E21+2,E21+1),"") -> 41 | AC21: =COUNTIF($C$9:$C$244, C21) -> 1 | AE21: =", min(" & B21 & "), max(" & B21 & ")" -> , min(SHITSNNC), max(SHITSNNC)
A22: =ROW()-8 -> 14 | B22: SHITSJU1 | C22: 紹介先住所１ | D22: NCHAR | E22: 42 | G22: =IF(E22<>"",Y21, "") -> 170 | K22: =IF(J22<>"NULL", IF(D22<>"",IF(D22="Decimal", 0, "' '"), ""), "") -> ' ' | O22: CHAR | P22: 42 | R22: VKIRIMS | S22: SHITSJU1 | T22: 住所１ | U22: CHAR | V22: 42 | W22: 0 | X22: =IF(E22="","",COUNTA(D$9:$D22)-COUNTIFS(D$9:$D22,"",D$9:$D22,"=*")) -> 14 | Y22: =IF(E22 <>"", IF(D22= "Decimal",Y21+AA22,Y21+Z22), Y21) -> 213 | Z22: =IF(E22<>"", E22+1, "") -> 43 | AA22: =IF(E22<>"",IF(F22<>"",E22+2,E22+1),"") -> 43 | AC22: =COUNTIF($C$9:$C$244, C22) -> 1 | AE22: =", min(" & B22 & "), max(" & B22 & ")" -> , min(SHITSJU1), max(SHITSJU1)
A23: =ROW()-8 -> 15 | B23: SHITSJU2 | C23: 紹介先住所２ | D23: NCHAR | E23: 42 | G23: =IF(E23<>"",Y22, "") -> 213 | K23: =IF(J23<>"NULL", IF(D23<>"",IF(D23="Decimal", 0, "' '"), ""), "") -> ' ' | O23: CHAR | P23: 42 | R23: VKIRIMS | S23: SHITSJU2 | T23: 住所２ | U23: CHAR | V23: 42 | W23: 0 | X23: =IF(E23="","",COUNTA(D$9:$D23)-COUNTIFS(D$9:$D23,"",D$9:$D23,"=*")) -> 15 | Y23: =IF(E23 <>"", IF(D23= "Decimal",Y22+AA23,Y22+Z23), Y22) -> 256 | Z23: =IF(E23<>"", E23+1, "") -> 43 | AA23: =IF(E23<>"",IF(F23<>"",E23+2,E23+1),"") -> 43 | AC23: =COUNTIF($C$9:$C$244, C23) -> 1 | AE23: =", min(" & B23 & "), max(" & B23 & ")" -> , min(SHITSJU2), max(SHITSJU2)
A24: =ROW()-8 -> 16 | B24: SHITSGC1 | C24: 紹介先業者コード１ | D24: NCHAR | E24: 2 | G24: =IF(E24<>"",Y23, "") -> 256 | K24: =IF(J24<>"NULL", IF(D24<>"",IF(D24="Decimal", 0, "' '"), ""), "") -> ' ' | O24: CHAR | P24: 2 | X24: =IF(E24="","",COUNTA(D$9:$D24)-COUNTIFS(D$9:$D24,"",D$9:$D24,"=*")) -> 16 | Y24: =IF(E24 <>"", IF(D24= "Decimal",Y23+AA24,Y23+Z24), Y23) -> 259 | Z24: =IF(E24<>"", E24+1, "") -> 3 | AA24: =IF(E24<>"",IF(F24<>"",E24+2,E24+1),"") -> 3 | AC24: =COUNTIF($C$9:$C$244, C24) -> 1 | AE24: =", min(" & B24 & "), max(" & B24 & ")" -> , min(SHITSGC1), max(SHITSGC1)
A25: =ROW()-8 -> 17 | B25: SHITSGC2 | C25: 紹介先業者コード２ | D25: NCHAR | E25: 2 | G25: =IF(E25<>"",Y24, "") -> 259 | K25: =IF(J25<>"NULL", IF(D25<>"",IF(D25="Decimal", 0, "' '"), ""), "") -> ' ' | O25: CHAR | P25: 2 | X25: =IF(E25="","",COUNTA(D$9:$D25)-COUNTIFS(D$9:$D25,"",D$9:$D25,"=*")) -> 17 | Y25: =IF(E25 <>"", IF(D25= "Decimal",Y24+AA25,Y24+Z25), Y24) -> 262 | Z25: =IF(E25<>"", E25+1, "") -> 3 | AA25: =IF(E25<>"",IF(F25<>"",E25+2,E25+1),"") -> 3 | AC25: =COUNTIF($C$9:$C$244, C25) -> 1 | AE25: =", min(" & B25 & "), max(" & B25 & ")" -> , min(SHITSGC2), max(SHITSGC2)
A26: =ROW()-8 -> 18 | B26: SHITSGC3 | C26: 紹介先業者コード３ | D26: NCHAR | E26: 2 | G26: =IF(E26<>"",Y25, "") -> 262 | K26: =IF(J26<>"NULL", IF(D26<>"",IF(D26="Decimal", 0, "' '"), ""), "") -> ' ' | O26: CHAR | P26: 2 | X26: =IF(E26="","",COUNTA(D$9:$D26)-COUNTIFS(D$9:$D26,"",D$9:$D26,"=*")) -> 18 | Y26: =IF(E26 <>"", IF(D26= "Decimal",Y25+AA26,Y25+Z26), Y25) -> 265 | Z26: =IF(E26<>"", E26+1, "") -> 3 | AA26: =IF(E26<>"",IF(F26<>"",E26+2,E26+1),"") -> 3 | AC26: =COUNTIF($C$9:$C$244, C26) -> 1 | AE26: =", min(" & B26 & "), max(" & B26 & ")" -> , min(SHITSGC3), max(SHITSGC3)
A27: =ROW()-8 -> 19 | B27: SHITSGNM | C27: 紹介先その他業者名 | D27: NCHAR | E27: 14 | G27: =IF(E27<>"",Y26, "") -> 265 | K27: =IF(J27<>"NULL", IF(D27<>"",IF(D27="Decimal", 0, "' '"), ""), "") -> ' ' | O27: CHAR | P27: 14 | R27: VKIRIMS | S27: SHITSGNM | T27: その他業者名 | U27: CHAR | V27: 14 | W27: 0 | X27: =IF(E27="","",COUNTA(D$9:$D27)-COUNTIFS(D$9:$D27,"",D$9:$D27,"=*")) -> 19 | Y27: =IF(E27 <>"", IF(D27= "Decimal",Y26+AA27,Y26+Z27), Y26) -> 280 | Z27: =IF(E27<>"", E27+1, "") -> 15 | AA27: =IF(E27<>"",IF(F27<>"",E27+2,E27+1),"") -> 15 | AC27: =COUNTIF($C$9:$C$244, C27) -> 1 | AE27: =", min(" & B27 & "), max(" & B27 & ")" -> , min(SHITSGNM), max(SHITSGNM)
A28: =ROW()-8 -> 20 | B28: SHITKJCD | C28: 経過従業員コード | D28: NCHAR | E28: 6 | G28: =IF(E28<>"",Y27, "") -> 280 | K28: =IF(J28<>"NULL", IF(D28<>"",IF(D28="Decimal", 0, "' '"), ""), "") -> ' ' | O28: CHAR | P28: 6 | R28: VKIRIMS | S28: SHITKJCD | T28: 従業員コード | U28: PIC | V28: 7 | W28: 0 | X28: =IF(E28="","",COUNTA(D$9:$D28)-COUNTIFS(D$9:$D28,"",D$9:$D28,"=*")) -> 20 | Y28: =IF(E28 <>"", IF(D28= "Decimal",Y27+AA28,Y27+Z28), Y27) -> 287 | Z28: =IF(E28<>"", E28+1, "") -> 7 | AA28: =IF(E28<>"",IF(F28<>"",E28+2,E28+1),"") -> 7 | AC28: =COUNTIF($C$9:$C$244, C28) -> 1 | AE28: =", min(" & B28 & "), max(" & B28 & ")" -> , min(SHITKJCD), max(SHITKJCD)
A29: =ROW()-8 -> 21 | B29: SHITKEK1 | C29: 経過区分１ | D29: NCHAR | E29: 2 | G29: =IF(E29<>"",Y28, "") -> 287 | K29: =IF(J29<>"NULL", IF(D29<>"",IF(D29="Decimal", 0, "' '"), ""), "") -> ' ' | O29: CHAR | P29: 2 | R29: VKIRIMS | S29: SHITKEKB[1] | T29: 経過区分 | U29: PIC | V29: 2 | W29: 0 | X29: =IF(E29="","",COUNTA(D$9:$D29)-COUNTIFS(D$9:$D29,"",D$9:$D29,"=*")) -> 21 | Y29: =IF(E29 <>"", IF(D29= "Decimal",Y28+AA29,Y28+Z29), Y28) -> 290 | Z29: =IF(E29<>"", E29+1, "") -> 3 | AA29: =IF(E29<>"",IF(F29<>"",E29+2,E29+1),"") -> 3 | AC29: =COUNTIF($C$9:$C$244, C29) -> 1 | AE29: =", min(" & B29 & "), max(" & B29 & ")" -> , min(SHITKEK1), max(SHITKEK1)
A30: =ROW()-8 -> 22 | B30: SHITKYM1 | C30: 訪問年月日１ | D30: NCHAR | E30: 8 | G30: =IF(E30<>"",Y29, "") -> 290 | K30: =IF(J30<>"NULL", IF(D30<>"",IF(D30="Decimal", 0, "' '"), ""), "") -> ' ' | O30: CHAR | P30: 8 | R30: VKIRIMS | S30: SHITKYMD[1] | T30: 訪問年月日 | U30: PIC | V30: 6 | W30: 0 | X30: =IF(E30="","",COUNTA(D$9:$D30)-COUNTIFS(D$9:$D30,"",D$9:$D30,"=*")) -> 22 | Y30: =IF(E30 <>"", IF(D30= "Decimal",Y29+AA30,Y29+Z30), Y29) -> 299 | Z30: =IF(E30<>"", E30+1, "") -> 9 | AA30: =IF(E30<>"",IF(F30<>"",E30+2,E30+1),"") -> 9 | AC30: =COUNTIF($C$9:$C$244, C30) -> 1 | AE30: =", min(" & B30 & "), max(" & B30 & ")" -> , min(SHITKYM1), max(SHITKYM1)
A31: =ROW()-8 -> 23 | B31: SHITKEK2 | C31: 経過区分２ | D31: NCHAR | E31: 2 | G31: =IF(E31<>"",Y30, "") -> 299 | K31: =IF(J31<>"NULL", IF(D31<>"",IF(D31="Decimal", 0, "' '"), ""), "") -> ' ' | O31: CHAR | P31: 2 | R31: VKIRIMS | S31: SHITKEKB[2] | T31: 経過区分 | U31: PIC | V31: 2 | W31: 0 | X31: =IF(E31="","",COUNTA(D$9:$D31)-COUNTIFS(D$9:$D31,"",D$9:$D31,"=*")) -> 23 | Y31: =IF(E31 <>"", IF(D31= "Decimal",Y30+AA31,Y30+Z31), Y30) -> 302 | Z31: =IF(E31<>"", E31+1, "") -> 3 | AA31: =IF(E31<>"",IF(F31<>"",E31+2,E31+1),"") -> 3 | AC31: =COUNTIF($C$9:$C$244, C31) -> 1 | AE31: =", min(" & B31 & "), max(" & B31 & ")" -> , min(SHITKEK2), max(SHITKEK2)
A32: =ROW()-8 -> 24 | B32: SHITKYM2 | C32: 訪問年月日２ | D32: NCHAR | E32: 8 | G32: =IF(E32<>"",Y31, "") -> 302 | K32: =IF(J32<>"NULL", IF(D32<>"",IF(D32="Decimal", 0, "' '"), ""), "") -> ' ' | O32: CHAR | P32: 8 | R32: VKIRIMS | S32: SHITKYMD[2] | T32: 訪問年月日 | U32: PIC | V32: 6 | W32: 0 | X32: =IF(E32="","",COUNTA(D$9:$D32)-COUNTIFS(D$9:$D32,"",D$9:$D32,"=*")) -> 24 | Y32: =IF(E32 <>"", IF(D32= "Decimal",Y31+AA32,Y31+Z32), Y31) -> 311 | Z32: =IF(E32<>"", E32+1, "") -> 9 | AA32: =IF(E32<>"",IF(F32<>"",E32+2,E32+1),"") -> 9 | AC32: =COUNTIF($C$9:$C$244, C32) -> 1 | AE32: =", min(" & B32 & "), max(" & B32 & ")" -> , min(SHITKYM2), max(SHITKYM2)
A33: =ROW()-8 -> 25 | B33: SHITKEK3 | C33: 経過区分３ | D33: NCHAR | E33: 2 | G33: =IF(E33<>"",Y32, "") -> 311 | K33: =IF(J33<>"NULL", IF(D33<>"",IF(D33="Decimal", 0, "' '"), ""), "") -> ' ' | O33: CHAR | P33: 2 | R33: VKIRIMS | S33: SHITKEKB[3] | T33: 経過区分 | U33: PIC | V33: 2 | W33: 0 | X33: =IF(E33="","",COUNTA(D$9:$D33)-COUNTIFS(D$9:$D33,"",D$9:$D33,"=*")) -> 25 | Y33: =IF(E33 <>"", IF(D33= "Decimal",Y32+AA33,Y32+Z33), Y32) -> 314 | Z33: =IF(E33<>"", E33+1, "") -> 3 | AA33: =IF(E33<>"",IF(F33<>"",E33+2,E33+1),"") -> 3 | AC33: =COUNTIF($C$9:$C$244, C33) -> 1 | AE33: =", min(" & B33 & "), max(" & B33 & ")" -> , min(SHITKEK3), max(SHITKEK3)
A34: =ROW()-8 -> 26 | B34: SHITKYM3 | C34: 訪問年月日３ | D34: NCHAR | E34: 8 | G34: =IF(E34<>"",Y33, "") -> 314 | K34: =IF(J34<>"NULL", IF(D34<>"",IF(D34="Decimal", 0, "' '"), ""), "") -> ' ' | O34: CHAR | P34: 8 | R34: VKIRIMS | S34: SHITKYMD[3] | T34: 訪問年月日 | U34: PIC | V34: 6 | W34: 0 | X34: =IF(E34="","",COUNTA(D$9:$D34)-COUNTIFS(D$9:$D34,"",D$9:$D34,"=*")) -> 26 | Y34: =IF(E34 <>"", IF(D34= "Decimal",Y33+AA34,Y33+Z34), Y33) -> 323 | Z34: =IF(E34<>"", E34+1, "") -> 9 | AA34: =IF(E34<>"",IF(F34<>"",E34+2,E34+1),"") -> 9 | AC34: =COUNTIF($C$9:$C$244, C34) -> 1 | AE34: =", min(" & B34 & "), max(" & B34 & ")" -> , min(SHITKYM3), max(SHITKYM3)
A35: =ROW()-8 -> 27 | B35: SHITYMDM | C35: 紹介元最終更新日 | D35: NCHAR | E35: 8 | G35: =IF(E35<>"",Y34, "") -> 323 | K35: =IF(J35<>"NULL", IF(D35<>"",IF(D35="Decimal", 0, "' '"), ""), "") -> ' ' | O35: CHAR | P35: 8 | R35: VKIRIMS | S35: SHITYMDM | T35: 紹介元最終更新日 | U35: PIC | V35: 6 | W35: 0 | X35: =IF(E35="","",COUNTA(D$9:$D35)-COUNTIFS(D$9:$D35,"",D$9:$D35,"=*")) -> 27 | Y35: =IF(E35 <>"", IF(D35= "Decimal",Y34+AA35,Y34+Z35), Y34) -> 332 | Z35: =IF(E35<>"", E35+1, "") -> 9 | AA35: =IF(E35<>"",IF(F35<>"",E35+2,E35+1),"") -> 9 | AC35: =COUNTIF($C$9:$C$244, C35) -> 1 | AE35: =", min(" & B35 & "), max(" & B35 & ")" -> , min(SHITYMDM), max(SHITYMDM)
A36: =ROW()-8 -> 28 | B36: SHITYMDS | C36: 紹介先最終更新日 | D36: NCHAR | E36: 8 | G36: =IF(E36<>"",Y35, "") -> 332 | K36: =IF(J36<>"NULL", IF(D36<>"",IF(D36="Decimal", 0, "' '"), ""), "") -> ' ' | O36: CHAR | P36: 8 | R36: VKIRIMS | S36: SHITYMDS | T36: 紹介先最終更新日 | U36: PIC | V36: 6 | W36: 0 | X36: =IF(E36="","",COUNTA(D$9:$D36)-COUNTIFS(D$9:$D36,"",D$9:$D36,"=*")) -> 28 | Y36: =IF(E36 <>"", IF(D36= "Decimal",Y35+AA36,Y35+Z36), Y35) -> 341 | Z36: =IF(E36<>"", E36+1, "") -> 9 | AA36: =IF(E36<>"",IF(F36<>"",E36+2,E36+1),"") -> 9 | AC36: =COUNTIF($C$9:$C$244, C36) -> 1 | AE36: =", min(" & B36 & "), max(" & B36 & ")" -> , min(SHITYMDS), max(SHITYMDS)
A37: =ROW()-8 -> 29 | B37: SHITDKBN | C37: 削除区分 | D37: NCHAR | E37: 1 | G37: =IF(E37<>"",Y36, "") -> 341 | K37: =IF(J37<>"NULL", IF(D37<>"",IF(D37="Decimal", 0, "' '"), ""), "") -> ' ' | L37: 9:削除 | O37: CHAR | P37: 1 | R37: VKIRIMS | S37: SHITDKBN | T37: 削除区分 | U37: PIC | V37: 1 | W37: 0 | X37: =IF(E37="","",COUNTA(D$9:$D37)-COUNTIFS(D$9:$D37,"",D$9:$D37,"=*")) -> 29 | Y37: =IF(E37 <>"", IF(D37= "Decimal",Y36+AA37,Y36+Z37), Y36) -> 343 | Z37: =IF(E37<>"", E37+1, "") -> 2 | AA37: =IF(E37<>"",IF(F37<>"",E37+2,E37+1),"") -> 2 | AC37: =COUNTIF($C$9:$C$244, C37) -> 1 | AE37: =", min(" & B37 & "), max(" & B37 & ")" -> , min(SHITDKBN), max(SHITDKBN)
A38: =ROW()-8 -> 30 | B38: SHITAYMD | C38: 作成年月日 | D38: NCHAR | E38: 8 | G38: =IF(E38<>"",Y37, "") -> 343 | K38: =IF(J38<>"NULL", IF(D38<>"",IF(D38="Decimal", 0, "' '"), ""), "") -> ' ' | O38: CHAR | P38: 8 | R38: VKIRIMS | S38: SHITAYMD | T38: 作成年月日 | U38: PIC | V38: 6 | W38: 0 | X38: =IF(E38="","",COUNTA(D$9:$D38)-COUNTIFS(D$9:$D38,"",D$9:$D38,"=*")) -> 30 | Y38: =IF(E38 <>"", IF(D38= "Decimal",Y37+AA38,Y37+Z38), Y37) -> 352 | Z38: =IF(E38<>"", E38+1, "") -> 9 | AA38: =IF(E38<>"",IF(F38<>"",E38+2,E38+1),"") -> 9 | AC38: =COUNTIF($C$9:$C$244, C38) -> 1 | AE38: =", min(" & B38 & "), max(" & B38 & ")" -> , min(SHITAYMD), max(SHITAYMD)
A39: =ROW()-8 -> 31 | B39: SYSCRDTS | C39: 作成日時 | D39: TIMESTAMP | E39: 6 | K39: CURRENT_TIMESTAMP | L39: レコードを生成した日時 | AB39: 固定項目 | AC39: =COUNTIF($C$9:$C$244, C39) -> 1
A40: =ROW()-8 -> 32 | B40: SYSCRTID | C40: 作成端末 | D40: NCHAR | E40: 15 | K40: =IF(D40<>"",IF(D40="Decimal", 0, "' '"), "") -> ' ' | L40: レコードを生成した端末コード | AB40: 固定項目 | AC40: =COUNTIF($C$9:$C$244, C40) -> 1
A41: =ROW()-8 -> 33 | B41: SYSCRJCD | C41: 作成ユーザー | D41: NCHAR | E41: 6 | K41: =IF(D41<>"",IF(D41="Decimal", 0, "' '"), "") -> ' ' | L41: レコードを生成した従業員コード | AB41: 固定項目 | AC41: =COUNTIF($C$9:$C$244, C41) -> 1
...

Sheet ＥＲ図・ＳＱＬ
A1: システム | E1: ３－Ｄオンラインシステム | N1: 物理テーブル名 | T1: =VKIRIMS!A4 -> VKIRIMS | AC1: 論理テーブル名 | AI1: =VKIRIMS!C4 -> 指定依頼書マスタ | AY1: スキーマ名 | BE1: 3DOS
A2: 作成者 | E2: =更新履歴!F2&"" -> 大場 | L2: 作成日 | P2: =IF(更新履歴!I2="","",更新履歴!I2) -> 46003 | U2: 更新者 | Y2: {=IF(MAX(更新履歴!A:A)<=1,"",IF(COUNTIF(更新履歴!B:B,"ＥＲ図・ＳＱＬ")=0,"",_xlfn.XLOOKUP("ＥＲ図・ＳＱＬ"&$AH$2,更新履歴!B:B&更新履歴!L:L,更新履歴!K:K,"",0,-1)))} | AD2: 更新日 | AH2: =IF(MAX(更新履歴!A:A)<=1,"",IF(COUNTIF(更新履歴!B:B,"ＥＲ図・ＳＱＬ")=0,"",_xlfn.MAXIFS(更新履歴!L:L,更新履歴!B:B,"ＥＲ図・ＳＱＬ"))) | AP2: 承認者 | BD2: 承認日
B4: 1.指定依頼書マスタ取得
C5: SELECT
C6: * | D6: *
C7: FROM
C8: VKIRIMS
C9: WHERE
C10: SHITMTNC = :条件①
C11: AND SHITMYMD = :条件②
C12: AND SHITMSNO = :条件③

Sheet ←

Sheet VKIRIMS(移行元)
A1: システム名 | C1: DASD | D1: DDLファイル名 | E1: No | G1: テーブル説明 | O1: 作成者 | P1: 作成日
A2: 現行可視化 | D2: VKIRIMS | E2: 504
A3: 物理テーブル名 | C3: 論理テーブル名 | E3: INCLUDE | L3: 総桁数 | O3: 更新者 | P3: 更新日
A4: VKIRIMS | C4: 指定依頼書マスタ | E4: SHITEIMS | L4: 400
A6: No. | B6: 物理名 | C6: 論理名 | D6: データ型 | E6: 桁数 | F6: 小数 | G6: GP | H6: ARR | I6: LV | J6: PK | K6: FK | L6: NULL | M6: 初期値 | N6: 備 考 | Q6: 代替DD名 | R6: 代替物理名 | S6: 論理名 | T6: 旧属性 | U6: 旧桁数 | V6: 旧小数 | W6: テーブル名(RDB) | X6: カラム名 | Y6: 論理名 | Z6: データ型 | AA6: 桁数 | AB6: 小数 | AC6: コメント | AD6: 重複チェック
A7: =ROW()-6 -> 1 | B7: SHITKEYB | C7: キー部 | G7: G | I7: 2 | Y7: {=_xlfn.XLOOKUP($B$7:$B$42, VKIRIMS!$S:$S,VKIRIMS!$C:$C,"", 0)} | Z7: {=_xlfn.XLOOKUP($B$7:$B$42, VKIRIMS!$S:$S,VKIRIMS!$D:$D,"", 0)} | AA7: {=_xlfn.XLOOKUP($B$7:$B$42, VKIRIMS!$S:$S,VKIRIMS!$E:$E,"", 0)} | AB7: {=_xlfn.XLOOKUP($B$7:$B$42, VKIRIMS!$S:$S,VKIRIMS!$F:$F,"", 0)} | AC7: 廃止 | AD7: =COUNTIF($C$7:$C$42,C7) -> 1
A8: =ROW()-6 -> 2 | B8: SHITMTNC | C8: 紹介元事業所コード | D8: PIC | E8: 4 | I8: 3 | J8: 1 | W8: VKIRIMS | X8: SHITMTNC | Y8: 紹介元事業所コード | Z8: NCHAR | AA8: 4 | AB8: 0 | AD8: =COUNTIF($C$7:$C$42,C8) -> 1
A9: =ROW()-6 -> 3 | B9: SHITMYMD | C9: 年月日 | D9: PIC | E9: 6 | I9: 3 | J9: 2 | W9: VKIRIMS | X9: SHITMYMD | Y9: 年月日 | Z9: NCHAR | AA9: 8 | AB9: 0 | AD9: =COUNTIF($C$7:$C$42,C9) -> 2
A10: =ROW()-6 -> 4 | B10: SHITMSNO | C10: 紹介№ | D10: PIC | E10: 6 | I10: 3 | J10: 3 | W10: VKIRIMS | X10: SHITMSNO | Y10: 紹介№ | Z10: NCHAR | AA10: 6 | AB10: 0 | AD10: =COUNTIF($C$7:$C$42,C10) -> 2
A11: =ROW()-6 -> 5 | B11: SHITMDUM | C11: ダミー | D11: CHAR | E11: 4 | I11: 3 | J11: 4 | AC11: 廃止 | AD11: =COUNTIF($C$7:$C$42,C11) -> 3
A12: =ROW()-6 -> 6 | B12: SHITMOTO | C12: 紹介元 | G12: G | I12: 2 | AC12: 廃止 | AD12: =COUNTIF($C$7:$C$42,C12) -> 1
A13: =ROW()-6 -> 7 | B13: SHITMJCD | C13: 従業員コード | D13: PIC | E13: 7 | I13: 3 | W13: VKIRIMS | X13: SHITMJCD | Y13: 紹介元従業員コード | Z13: NCHAR | AA13: 6 | AB13: 0 | AD13: =COUNTIF($C$7:$C$42,C13) -> 2
A14: =ROW()-6 -> 8 | B14: SHITMNCD | C14: 荷主コード | D14: CHAR | E14: 7 | I14: 3 | W14: VKIRIMS | X14: SHITMNCD | Y14: 荷主コード | Z14: NCHAR | AA14: 7 | AB14: 0 | AD14: =COUNTIF($C$7:$C$42,C14) -> 1
A15: =ROW()-6 -> 9 | B15: SHITMNNM | C15: 荷主名 | D15: CHAR | E15: 22 | I15: 3 | W15: VKIRIMS | X15: SHITMNNM | Y15: 荷主名 | Z15: NCHAR | AA15: 22 | AB15: 0 | AD15: =COUNTIF($C$7:$C$42,C15) -> 1
A16: =ROW()-6 -> 10 | B16: SHITMGCD | C16: 業種コード | D16: CHAR | E16: 4 | I16: 3 | W16: VKIRIMS | X16: SHITMGCD | Y16: 業種コード | Z16: NCHAR | AA16: 4 | AB16: 0 | AD16: =COUNTIF($C$7:$C$42,C16) -> 1
A17: =ROW()-6 -> 11 | B17: SHITKEYA | C17: ＡＩＸ | G17: G | I17: 2 | AC17: 廃止 | AD17: =COUNTIF($C$7:$C$42,C17) -> 1
A18: =ROW()-6 -> 12 | B18: SHITSTNC | C18: 紹介先事業所コード | D18: PIC | E18: 4 | I18: 3 | W18: VKIRIMS | X18: SHITSTNC | Y18: 紹介先事業所コード | Z18: NCHAR | AA18: 4 | AB18: 0 | AD18: =COUNTIF($C$7:$C$42,C18) -> 1
A19: =ROW()-6 -> 13 | B19: SHITSYMD | C19: 年月日 | D19: PIC | E19: 6 | I19: 3 | W19: VKIRIMS | X19: SHITSYMD | Y19: 年月日 | Z19: NCHAR | AA19: 8 | AB19: 0 | AD19: =COUNTIF($C$7:$C$42,C19) -> 2
A20: =ROW()-6 -> 14 | B20: SHITSSNO | C20: 紹介№ | D20: PIC | E20: 6 | I20: 3 | W20: VKIRIMS | X20: SHITSSNO | Y20: 紹介№ | Z20: NCHAR | AA20: 6 | AB20: 0 | AD20: =COUNTIF($C$7:$C$42,C20) -> 2
A21: =ROW()-6 -> 15 | B21: SHITSDUM | C21: ダミー | D21: CHAR | E21: 4 | I21: 3 | AC21: 廃止 | AD21: =COUNTIF($C$7:$C$42,C21) -> 3
A22: =ROW()-6 -> 16 | B22: SHITSAKI | C22: 紹介先 | G22: G | I22: 2 | AC22: 廃止 | AD22: =COUNTIF($C$7:$C$42,C22) -> 1
A23: =ROW()-6 -> 17 | B23: SHITSNNG | C23: 荷主名（漢字） | D23: CHAR | E23: 42 | I23: 3 | W23: VKIRIMS | X23: SHITSNNG | Y23: 紹介先荷主名（漢字） | Z23: NCHAR | AA23: 42 | AB23: 0 | AD23: =COUNTIF($C$7:$C$42,C23) -> 1
A24: =ROW()-6 -> 18 | B24: SHITSNNC | C24: 荷主名（カナ） | D24: CHAR | E24: 40 | I24: 3 | W24: VKIRIMS | X24: SHITSNNC | Y24: 紹介先荷主名（カナ） | Z24: NCHAR | AA24: 40 | AB24: 0 | AD24: =COUNTIF($C$7:$C$42,C24) -> 1
A25: =ROW()-6 -> 19 | B25: SHITSJU1 | C25: 住所１ | D25: CHAR | E25: 42 | I25: 3 | W25: VKIRIMS | X25: SHITSJU1 | Y25: 紹介先住所１ | Z25: NCHAR | AA25: 42 | AB25: 0 | AD25: =COUNTIF($C$7:$C$42,C25) -> 1
A26: =ROW()-6 -> 20 | B26: SHITSJU2 | C26: 住所２ | D26: CHAR | E26: 42 | I26: 3 | W26: VKIRIMS | X26: SHITSJU2 | Y26: 紹介先住所２ | Z26: NCHAR | AA26: 42 | AB26: 0 | AD26: =COUNTIF($C$7:$C$42,C26) -> 1
A27: =ROW()-6 -> 21 | B27: SHITSGCD | C27: 業者コード | D27: PIC | E27: 2 | H27: 3 | I27: 3 | AC27: 廃止 | AD27: =COUNTIF($C$7:$C$42,C27) -> 1
A28: =ROW()-6 -> 22 | B28: SHITSGNM | C28: その他業者名 | D28: CHAR | E28: 14 | I28: 3 | W28: VKIRIMS | X28: SHITSGNM | Y28: 紹介先その他業者名 | Z28: NCHAR | AA28: 14 | AB28: 0 | AD28: =COUNTIF($C$7:$C$42,C28) -> 1
A29: =ROW()-6 -> 23 | B29: SHITKEKA | C29: 経過 | G29: G | I29: 2 | AC29: 廃止 | AD29: =COUNTIF($C$7:$C$42,C29) -> 2
A30: =ROW()-6 -> 24 | B30: SHITKJCD | C30: 従業員コード | D30: PIC | E30: 7 | I30: 3 | W30: VKIRIMS | X30: SHITKJCD | Y30: 経過従業員コード | Z30: NCHAR | AA30: 6 | AB30: 0 | AD30: =COUNTIF($C$7:$C$42,C30) -> 2
A31: =ROW()-6 -> 25 | B31: SHITKEIK | C31: 経過 | G31: G | H31: 3 | I31: 3 | AC31: 廃止 | AD31: =COUNTIF($C$7:$C$42,C31) -> 2
A32: =ROW()-6 -> 26 | B32: SHITKEKB[1] | C32: 経過区分 | D32: PIC | E32: 2 | I32: 4 | W32: VKIRIMS | X32: SHITKEK1 | Y32: 経過区分１ | Z32: NCHAR | AA32: 2 | AB32: 0 | AD32: =COUNTIF($C$7:$C$42,C32) -> 3
A33: =ROW()-6 -> 27 | B33: SHITKYMD[1] | C33: 訪問年月日 | D33: PIC | E33: 6 | I33: 4 | W33: VKIRIMS | X33: SHITKYM1 | Y33: 訪問年月日１ | Z33: NCHAR | AA33: 8 | AB33: 0 | AD33: =COUNTIF($C$7:$C$42,C33) -> 3
A34: =ROW()-6 -> 28 | B34: SHITKEKB[2] | C34: 経過区分 | D34: PIC | E34: 2 | I34: 4 | W34: VKIRIMS | X34: SHITKEK2 | Y34: 経過区分２ | Z34: NCHAR | AA34: 2 | AB34: 0 | AD34: =COUNTIF($C$7:$C$42,C34) -> 3
A35: =ROW()-6 -> 29 | B35: SHITKYMD[2] | C35: 訪問年月日 | D35: PIC | E35: 6 | I35: 4 | W35: VKIRIMS | X35: SHITKYM2 | Y35: 訪問年月日２ | Z35: NCHAR | AA35: 8 | AB35: 0 | AD35: =COUNTIF($C$7:$C$42,C35) -> 3
A36: =ROW()-6 -> 30 | B36: SHITKEKB[3] | C36: 経過区分 | D36: PIC | E36: 2 | I36: 4 | W36: VKIRIMS | X36: SHITKEK3 | Y36: 経過区分３ | Z36: NCHAR | AA36: 2 | AB36: 0 | AD36: =COUNTIF($C$7:$C$42,C36) -> 3
A37: =ROW()-6 -> 31 | B37: SHITKYMD[3] | C37: 訪問年月日 | D37: PIC | E37: 6 | I37: 4 | W37: VKIRIMS | X37: SHITKYM3 | Y37: 訪問年月日３ | Z37: NCHAR | AA37: 8 | AB37: 0 | AD37: =COUNTIF($C$7:$C$42,C37) -> 3
A38: =ROW()-6 -> 32 | B38: SHITDMY1 | C38: ダミー | D38: CHAR | E38: 84 | I38: 2 | AC38: 廃止 | AD38: =COUNTIF($C$7:$C$42,C38) -> 3
A39: =ROW()-6 -> 33 | B39: SHITYMDM | C39: 紹介元最終更新日 | D39: PIC | E39: 6 | I39: 2 | W39: VKIRIMS | X39: SHITYMDM | Y39: 紹介元最終更新日 | Z39: NCHAR | AA39: 8 | AB39: 0 | AD39: =COUNTIF($C$7:$C$42,C39) -> 1
A40: =ROW()-6 -> 34 | B40: SHITYMDS | C40: 紹介先最終更新日 | D40: PIC | E40: 6 | I40: 2 | W40: VKIRIMS | X40: SHITYMDS | Y40: 紹介先最終更新日 | Z40: NCHAR | AA40: 8 | AB40: 0 | AD40: =COUNTIF($C$7:$C$42,C40) -> 1
A41: =ROW()-6 -> 35 | B41: SHITDKBN | C41: 削除区分 | D41: PIC | E41: 1 | I41: 2 | N41: 9:削除 | W41: VKIRIMS | X41: SHITDKBN | Y41: 削除区分 | Z41: NCHAR | AA41: 1 | AB41: 0 | AD41: =COUNTIF($C$7:$C$42,C41) -> 1
...

Sheet VKIRIMS(移行元)_Step1
A1: システム名 | C1: DASD | D1: DDLファイル名 | E1: No | G1: テーブル説明 | O1: 作成者 | P1: 作成日
A2: 現行可視化 | D2: VKIRIMS | E2: 504
A3: 物理テーブル名 | C3: 論理テーブル名 | E3: INCLUDE | L3: 総桁数 | O3: 更新者 | P3: 更新日
A4: VKIRIMS | C4: 指定依頼書マスタ | E4: SHITEIMS | L4: 400
A6: No. | B6: 物理名 | C6: 論理名 | D6: データ型 | E6: 桁数 | F6: 小数 | G6: GP | H6: ARR | I6: LV | J6: PK | K6: FK | L6: NULL | M6: 初期値 | N6: 備 考 | Q6: 代替DD名 | R6: 代替物理名 | S6: 論理名 | T6: 旧属性 | U6: 旧桁数 | V6: 旧小数 | W6: テーブル名(RDB) | X6: カラム名 | Y6: 論理名 | Z6: データ型 | AA6: 桁数 | AB6: 小数 | AC6: コメント | AD6: 重複チェック
A7: =ROW()-6 -> 1 | B7: SHITKEYB | C7: キー部 | G7: G | I7: 2 | X7: {=_xlfn.XLOOKUP($B$7:$B$38, VKIRIMS!$S:$S,VKIRIMS!$B:$B,"", 0)} | Y7: {=_xlfn.XLOOKUP($B$7:$B$38, VKIRIMS!$S:$S,VKIRIMS!$C:$C,"", 0)} | Z7: {=_xlfn.XLOOKUP($B$7:$B$38, VKIRIMS!$S:$S,VKIRIMS!$D:$D,"", 0)} | AA7: {=_xlfn.XLOOKUP($B$7:$B$38, VKIRIMS!$S:$S,VKIRIMS!$E:$E,"", 0)} | AB7: {=_xlfn.XLOOKUP($B$7:$B$38, VKIRIMS!$S:$S,VKIRIMS!$F:$F,"", 0)} | AC7: 廃止 | AD7: =COUNTIF($Y$7:$Y$10058, Y7) -> 10032
A8: =ROW()-6 -> 2 | B8: SHITMTNC | C8: 紹介元事業所コード | D8: PIC | E8: 4 | I8: 3 | J8: 1 | X8: SHITMTNC | Y8: 紹介元事業所コード | Z8: NCHAR | AA8: 4 | AB8: 0 | AC8: 廃止 | AD8: =COUNTIF($Y$7:$Y$10058, Y8) -> 1
A9: =ROW()-6 -> 3 | B9: SHITMYMD | C9: 年月日 | D9: PIC | E9: 6 | I9: 3 | J9: 2 | X9: SHITMYMD | Y9: 年月日 | Z9: NCHAR | AA9: 8 | AB9: 0 | AC9: 廃止 | AD9: =COUNTIF($Y$7:$Y$10058, Y9) -> 2
A10: =ROW()-6 -> 4 | B10: SHITMSNO | C10: 紹介№ | D10: PIC | E10: 6 | I10: 3 | J10: 3 | X10: SHITMSNO | Y10: 紹介№ | Z10: NCHAR | AA10: 6 | AB10: 0 | AC10: 廃止 | AD10: =COUNTIF($Y$7:$Y$10058, Y10) -> 2
A11: =ROW()-6 -> 5 | B11: SHITMDUM | C11: ダミー | D11: CHAR | E11: 4 | I11: 3 | J11: 4 | AC11: 廃止 | AD11: =COUNTIF($Y$7:$Y$10058, Y11) -> 10032
A12: =ROW()-6 -> 6 | B12: SHITMOTO | C12: 紹介元 | G12: G | I12: 2 | AC12: 廃止 | AD12: =COUNTIF($Y$7:$Y$10058, Y12) -> 10032
A13: =ROW()-6 -> 7 | B13: SHITMJCD | C13: 従業員コード | D13: PIC | E13: 7 | I13: 3 | X13: SHITMJCD | Y13: 紹介元従業員コード | Z13: NCHAR | AA13: 6 | AB13: 0 | AC13: 廃止 | AD13: =COUNTIF($Y$7:$Y$10058, Y13) -> 1
A14: =ROW()-6 -> 8 | B14: SHITMNCD | C14: 荷主コード | D14: CHAR | E14: 7 | I14: 3 | X14: SHITMNCD | Y14: 荷主コード | Z14: NCHAR | AA14: 7 | AB14: 0 | AC14: 廃止 | AD14: =COUNTIF($Y$7:$Y$10058, Y14) -> 1
A15: =ROW()-6 -> 9 | B15: SHITMNNM | C15: 荷主名 | D15: CHAR | E15: 22 | I15: 3 | X15: SHITMNNM | Y15: 荷主名 | Z15: NCHAR | AA15: 22 | AB15: 0 | AC15: 廃止 | AD15: =COUNTIF($Y$7:$Y$10058, Y15) -> 1
A16: =ROW()-6 -> 10 | B16: SHITMGCD | C16: 業種コード | D16: CHAR | E16: 4 | I16: 3 | X16: SHITMGCD | Y16: 業種コード | Z16: NCHAR | AA16: 4 | AB16: 0 | AC16: 廃止 | AD16: =COUNTIF($Y$7:$Y$10058, Y16) -> 1
A17: =ROW()-6 -> 11 | B17: SHITKEYA | C17: ＡＩＸ | G17: G | I17: 2 | AC17: 廃止 | AD17: =COUNTIF($Y$7:$Y$10058, Y17) -> 10032
A18: =ROW()-6 -> 12 | B18: SHITSTNC | C18: 紹介先事業所コード | D18: PIC | E18: 4 | I18: 3 | X18: SHITSTNC | Y18: 紹介先事業所コード | Z18: NCHAR | AA18: 4 | AB18: 0 | AC18: 廃止 | AD18: =COUNTIF($Y$7:$Y$10058, Y18) -> 1
A19: =ROW()-6 -> 13 | B19: SHITSYMD | C19: 年月日 | D19: PIC | E19: 6 | I19: 3 | X19: SHITSYMD | Y19: 年月日 | Z19: NCHAR | AA19: 8 | AB19: 0 | AC19: 廃止 | AD19: =COUNTIF($Y$7:$Y$10058, Y19) -> 2
A20: =ROW()-6 -> 14 | B20: SHITSSNO | C20: 紹介№ | D20: PIC | E20: 6 | I20: 3 | X20: SHITSSNO | Y20: 紹介№ | Z20: NCHAR | AA20: 6 | AB20: 0 | AC20: 廃止 | AD20: =COUNTIF($Y$7:$Y$10058, Y20) -> 2
A21: =ROW()-6 -> 15 | B21: SHITSDUM | C21: ダミー | D21: CHAR | E21: 4 | I21: 3 | AC21: 廃止 | AD21: =COUNTIF($Y$7:$Y$10058, Y21) -> 10032
A22: =ROW()-6 -> 16 | B22: SHITSAKI | C22: 紹介先 | G22: G | I22: 2 | AC22: 廃止 | AD22: =COUNTIF($Y$7:$Y$10058, Y22) -> 10032
A23: =ROW()-6 -> 17 | B23: SHITSNNG | C23: 荷主名（漢字） | D23: CHAR | E23: 42 | I23: 3 | X23: SHITSNNG | Y23: 紹介先荷主名（漢字） | Z23: NCHAR | AA23: 42 | AB23: 0 | AC23: 廃止 | AD23: =COUNTIF($Y$7:$Y$10058, Y23) -> 1
A24: =ROW()-6 -> 18 | B24: SHITSNNC | C24: 荷主名（カナ） | D24: CHAR | E24: 40 | I24: 3 | X24: SHITSNNC | Y24: 紹介先荷主名（カナ） | Z24: NCHAR | AA24: 40 | AB24: 0 | AC24: 廃止 | AD24: =COUNTIF($Y$7:$Y$10058, Y24) -> 1
A25: =ROW()-6 -> 19 | B25: SHITSJU1 | C25: 住所１ | D25: CHAR | E25: 42 | I25: 3 | X25: SHITSJU1 | Y25: 紹介先住所１ | Z25: NCHAR | AA25: 42 | AB25: 0 | AC25: 廃止 | AD25: =COUNTIF($Y$7:$Y$10058, Y25) -> 1
A26: =ROW()-6 -> 20 | B26: SHITSJU2 | C26: 住所２ | D26: CHAR | E26: 42 | I26: 3 | X26: SHITSJU2 | Y26: 紹介先住所２ | Z26: NCHAR | AA26: 42 | AB26: 0 | AC26: 廃止 | AD26: =COUNTIF($Y$7:$Y$10058, Y26) -> 1
A27: =ROW()-6 -> 21 | B27: SHITSGCD | C27: 業者コード | D27: PIC | E27: 2 | H27: 3 | I27: 3 | AC27: 廃止 | AD27: =COUNTIF($Y$7:$Y$10058, Y27) -> 10032
A28: =ROW()-6 -> 22 | B28: SHITSGNM | C28: その他業者名 | D28: CHAR | E28: 14 | I28: 3 | X28: SHITSGNM | Y28: 紹介先その他業者名 | Z28: NCHAR | AA28: 14 | AB28: 0 | AC28: 廃止 | AD28: =COUNTIF($Y$7:$Y$10058, Y28) -> 1
A29: =ROW()-6 -> 23 | B29: SHITKEKA | C29: 経過 | G29: G | I29: 2 | AC29: 廃止 | AD29: =COUNTIF($Y$7:$Y$10058, Y29) -> 10032
A30: =ROW()-6 -> 24 | B30: SHITKJCD | C30: 従業員コード | D30: PIC | E30: 7 | I30: 3 | X30: SHITKJCD | Y30: 経過従業員コード | Z30: NCHAR | AA30: 6 | AB30: 0 | AC30: 廃止 | AD30: =COUNTIF($Y$7:$Y$10058, Y30) -> 1
A31: =ROW()-6 -> 25 | B31: SHITKEIK | C31: 経過 | G31: G | H31: 3 | I31: 3 | AC31: 廃止 | AD31: =COUNTIF($Y$7:$Y$10058, Y31) -> 10032
A32: =ROW()-6 -> 26 | B32: SHITKEKB | C32: 経過区分 | D32: PIC | E32: 2 | I32: 4 | AC32: 廃止 | AD32: =COUNTIF($Y$7:$Y$10058, Y32) -> 10032
A33: =ROW()-6 -> 27 | B33: SHITKYMD | C33: 訪問年月日 | D33: PIC | E33: 6 | I33: 4 | AC33: 廃止 | AD33: =COUNTIF($Y$7:$Y$10058, Y33) -> 10032
A34: =ROW()-6 -> 28 | B34: SHITDMY1 | C34: ダミー | D34: CHAR | E34: 84 | I34: 2 | AC34: 廃止 | AD34: =COUNTIF($Y$7:$Y$10058, Y34) -> 10032
A35: =ROW()-6 -> 29 | B35: SHITYMDM | C35: 紹介元最終更新日 | D35: PIC | E35: 6 | I35: 2 | X35: SHITYMDM | Y35: 紹介元最終更新日 | Z35: NCHAR | AA35: 8 | AB35: 0 | AC35: 廃止 | AD35: =COUNTIF($Y$7:$Y$10058, Y35) -> 1
A36: =ROW()-6 -> 30 | B36: SHITYMDS | C36: 紹介先最終更新日 | D36: PIC | E36: 6 | I36: 2 | X36: SHITYMDS | Y36: 紹介先最終更新日 | Z36: NCHAR | AA36: 8 | AB36: 0 | AC36: 廃止 | AD36: =COUNTIF($Y$7:$Y$10058, Y36) -> 1
A37: =ROW()-6 -> 31 | B37: SHITDKBN | C37: 削除区分 | D37: PIC | E37: 1 | I37: 2 | N37: 9:削除 | X37: SHITDKBN | Y37: 削除区分 | Z37: NCHAR | AA37: 1 | AB37: 0 | AC37: 廃止 | AD37: =COUNTIF($Y$7:$Y$10058, Y37) -> 1
A38: =ROW()-6 -> 32 | B38: SHITAYMD | C38: 作成年月日 | D38: PIC | E38: 6 | I38: 2 | X38: SHITAYMD | Y38: 作成年月日 | Z38: NCHAR | AA38: 8 | AB38: 0 | AC38: 廃止 | AD38: =COUNTIF($Y$7:$Y$10058, Y38) -> 1
A39: =ROW()-6 -> 33 | AD39: =COUNTIF($Y$7:$Y$10058, Y39) -> 0
A43: 外部キー定義
A44: No. | B44: 制約名 | C44: 対象フィールド | G44: 参照テーブル名 | N44: 参照フィールド名
